BEGIN:VCALENDAR
VERSION:2.0
PRODID:-//Berlin &amp; Teltow - ECPv6.15.20//NONSGML v1.0//EN
CALSCALE:GREGORIAN
METHOD:PUBLISH
X-ORIGINAL-URL:https://www.berlin-teltow.de
X-WR-CALDESC:Veranstaltungen für Berlin &amp; Teltow
REFRESH-INTERVAL;VALUE=DURATION:PT1H
X-Robots-Tag:noindex
X-PUBLISHED-TTL:PT1H
BEGIN:VTIMEZONE
TZID:Europe/Berlin
BEGIN:DAYLIGHT
TZOFFSETFROM:+0100
TZOFFSETTO:+0200
TZNAME:CEST
DTSTART:20250330T010000
END:DAYLIGHT
BEGIN:STANDARD
TZOFFSETFROM:+0200
TZOFFSETTO:+0100
TZNAME:CET
DTSTART:20251026T010000
END:STANDARD
BEGIN:DAYLIGHT
TZOFFSETFROM:+0100
TZOFFSETTO:+0200
TZNAME:CEST
DTSTART:20260329T010000
END:DAYLIGHT
BEGIN:STANDARD
TZOFFSETFROM:+0200
TZOFFSETTO:+0100
TZNAME:CET
DTSTART:20261025T010000
END:STANDARD
BEGIN:DAYLIGHT
TZOFFSETFROM:+0100
TZOFFSETTO:+0200
TZNAME:CEST
DTSTART:20270328T010000
END:DAYLIGHT
BEGIN:STANDARD
TZOFFSETFROM:+0200
TZOFFSETTO:+0100
TZNAME:CET
DTSTART:20271031T010000
END:STANDARD
END:VTIMEZONE
BEGIN:VEVENT
DTSTART;TZID=Europe/Berlin:20260421T190000
DTEND;TZID=Europe/Berlin:20260421T190000
DTSTAMP:20260421T212337
CREATED:20260323T133854Z
LAST-MODIFIED:20260323T134216Z
UID:18207-1776798000-1776798000@www.berlin-teltow.de
SUMMARY:🎼Erzählungen aus aller Welt mit Geige begleitet 🎻
DESCRIPTION:Zum Staunen & Geniessen – Musik und wundersame Erzählungen aus aller Welt“ mit Séraphin (Yutah Lorenz\, Schauspiel) & Silva (Silva von Bülow\, Geige) \nEintritt frei\, Spende erfreut 🎩 \nAnmeldung erwünscht
URL:https://www.berlin-teltow.de/event/%f0%9f%8e%bcerzaehlungen-aus-aller-welt-mit-geige-begleitet-%f0%9f%8e%bb/
LOCATION:Nachbarschaftshaus Wannseebahn e.V\, Mörchinger Str. 49\,\, Berlin\, 14169
CATEGORIES:Konzert
END:VEVENT
BEGIN:VEVENT
DTSTART;TZID=Europe/Berlin:20260422T190000
DTEND;TZID=Europe/Berlin:20260422T190000
DTSTAMP:20260421T212337
CREATED:20260301T082702Z
LAST-MODIFIED:20260323T134213Z
UID:18110-1776884400-1776884400@www.berlin-teltow.de
SUMMARY:Autorenlesung | "Aufgeräumt wird später" - Manfred Suttinger erzählt über Ordnung und Chaos
DESCRIPTION:
URL:https://www.berlin-teltow.de/event/autorenlesung-aufgeraeumt-wird-spaeter-manfred-suttinger-erzaehlt-ueber-ordnung-und-chaos/
LOCATION:Rathaus Kleinmachnow\, Adolf-Grimme-Ring 10\, Kleinmachnow\, 14532
CATEGORIES:Kunst und Literatur
END:VEVENT
BEGIN:VEVENT
DTSTART;TZID=Europe/Berlin:20260423T160000
DTEND;TZID=Europe/Berlin:20260423T180000
DTSTAMP:20260421T212337
CREATED:20260301T085115Z
LAST-MODIFIED:20260323T134210Z
UID:18152-1776960000-1776967200@www.berlin-teltow.de
SUMMARY:Book Bedazzle
DESCRIPTION:
URL:https://www.berlin-teltow.de/event/book-bedazzle/
LOCATION:Ingeborg-Drewitz-Bibliothek Zehlendorf\, Grunewaldstr. 3\, Berlin\, 12165
CATEGORIES:Kinder
END:VEVENT
BEGIN:VEVENT
DTSTART;TZID=Europe/Berlin:20260424T200000
DTEND;TZID=Europe/Berlin:20260424T200000
DTSTAMP:20260421T212337
CREATED:20260301T082811Z
LAST-MODIFIED:20260323T134207Z
UID:18112-1777060800-1777060800@www.berlin-teltow.de
SUMMARY:Philipp Scharrenberg - Verwirren ist menschlich
DESCRIPTION:Preis:\n\n20\,00 €\n18 Euro im Vorverkauf bei natura am Rathausmarkt.
URL:https://www.berlin-teltow.de/event/philipp-scharrenberg-verwirren-ist-menschlich/
LOCATION:KultRaum Kleinmachnow e.V.\, Zehlendorfer Damm 200\, Kleinmachnow\, 14532
CATEGORIES:Bühne
END:VEVENT
BEGIN:VEVENT
DTSTART;TZID=Europe/Berlin:20260425T110000
DTEND;TZID=Europe/Berlin:20260425T180000
DTSTAMP:20260421T212337
CREATED:20260301T082132Z
LAST-MODIFIED:20260323T134205Z
UID:18103-1777114800-1777140000@www.berlin-teltow.de
SUMMARY:Tage der offenen Tür beim Ruderclub
DESCRIPTION:Proberudern für Alle auf dem Gelände des RCKST\, Bäkepromenade (unterhalb der Machnower Schleuse)
URL:https://www.berlin-teltow.de/event/tage-der-offenen-tuer-beim-ruderclub/
LOCATION:Ruderclub Stahnsdorf\, Bäkegrund\, Stahnsdorf\, 14532
CATEGORIES:Sport und Spiel
END:VEVENT
BEGIN:VEVENT
DTSTART;TZID=Europe/Berlin:20260425T140800
DTEND;TZID=Europe/Berlin:20260425T170000
DTSTAMP:20260421T212337
CREATED:20260301T082316Z
LAST-MODIFIED:20260323T134204Z
UID:18102-1777126080-1777136400@www.berlin-teltow.de
SUMMARY:Denksportnachmittag
DESCRIPTION:
URL:https://www.berlin-teltow.de/event/denksportnachmittag/
LOCATION:Bürgerhaus Stahnsdorf\, Dorfplatz 2\, Stahnsdorf\, 14532
CATEGORIES:Sport und Spiel
END:VEVENT
BEGIN:VEVENT
DTSTART;TZID=Europe/Berlin:20260425T200000
DTEND;TZID=Europe/Berlin:20260425T200000
DTSTAMP:20260421T212337
CREATED:20260301T084252Z
LAST-MODIFIED:20260323T134202Z
UID:18141-1777147200-1777147200@www.berlin-teltow.de
SUMMARY:Kabarett Theater Die Distel: "Die SchMERZtherapie"
DESCRIPTION:
URL:https://www.berlin-teltow.de/event/kabarett-theater-die-distel-die-schmerztherapie/
LOCATION:Gemeindesaal Großbeeren\, Am Rathaus 1 a\, Großbeeren\, 14979
CATEGORIES:Bühne
END:VEVENT
BEGIN:VEVENT
DTSTART;TZID=Europe/Berlin:20260426T080000
DTEND;TZID=Europe/Berlin:20260426T170000
DTSTAMP:20260421T212337
CREATED:20260301T083534Z
LAST-MODIFIED:20260323T134200Z
UID:18122-1777190400-1777222800@www.berlin-teltow.de
SUMMARY:Barockkonzert St. Andreaskirche
DESCRIPTION:
URL:https://www.berlin-teltow.de/event/barockkonzert-st-andreaskirche/
LOCATION:St. Andreas Kirche Teltow\, Breite Str.\, Teltow\, 14513
CATEGORIES:Konzert
END:VEVENT
BEGIN:VEVENT
DTSTART;TZID=Europe/Berlin:20260429T100000
DTEND;TZID=Europe/Berlin:20260429T100000
DTSTAMP:20260421T212337
CREATED:20260301T083626Z
LAST-MODIFIED:20260323T134157Z
UID:18124-1777456800-1777456800@www.berlin-teltow.de
SUMMARY:Ü60-Frühstück mit "Pflege vor Ort“
DESCRIPTION:
URL:https://www.berlin-teltow.de/event/ue60-fruehstueck-mit-pflege-vor-ort/
LOCATION:AWO Teltow\, Potsdamer Str. 62\, Teltow\, 14513
CATEGORIES:Senior*innen
END:VEVENT
END:VCALENDAR