BEGIN:VCALENDAR
VERSION:2.0
PRODID:-//Berlin &amp; Teltow - ECPv6.15.20//NONSGML v1.0//EN
CALSCALE:GREGORIAN
METHOD:PUBLISH
X-WR-CALNAME:Berlin &amp; Teltow
X-ORIGINAL-URL:https://www.berlin-teltow.de
X-WR-CALDESC:Veranstaltungen für Berlin &amp; Teltow
REFRESH-INTERVAL;VALUE=DURATION:PT1H
X-Robots-Tag:noindex
X-PUBLISHED-TTL:PT1H
BEGIN:VTIMEZONE
TZID:Europe/Berlin
BEGIN:DAYLIGHT
TZOFFSETFROM:+0100
TZOFFSETTO:+0200
TZNAME:CEST
DTSTART:20250330T010000
END:DAYLIGHT
BEGIN:STANDARD
TZOFFSETFROM:+0200
TZOFFSETTO:+0100
TZNAME:CET
DTSTART:20251026T010000
END:STANDARD
BEGIN:DAYLIGHT
TZOFFSETFROM:+0100
TZOFFSETTO:+0200
TZNAME:CEST
DTSTART:20260329T010000
END:DAYLIGHT
BEGIN:STANDARD
TZOFFSETFROM:+0200
TZOFFSETTO:+0100
TZNAME:CET
DTSTART:20261025T010000
END:STANDARD
BEGIN:DAYLIGHT
TZOFFSETFROM:+0100
TZOFFSETTO:+0200
TZNAME:CEST
DTSTART:20270328T010000
END:DAYLIGHT
BEGIN:STANDARD
TZOFFSETFROM:+0200
TZOFFSETTO:+0100
TZNAME:CET
DTSTART:20271031T010000
END:STANDARD
END:VTIMEZONE
BEGIN:VEVENT
DTSTART;TZID=Europe/Berlin:20260203T163000
DTEND;TZID=Europe/Berlin:20260203T170000
DTSTAMP:20260421T230340
CREATED:20260102T120046Z
LAST-MODIFIED:20260102T120046Z
UID:18032-1770136200-1770138000@www.berlin-teltow.de
SUMMARY:Erzählzeit in der Gottfried-Benn-Bibliothek
DESCRIPTION:Eintritt frei. Ohne Voranmeldung. \nWeitere Informationen unter Tel. (030) 90 299 5458 oder E-Mail an event-bibliothek@ba-sz.berlin.de
URL:https://www.berlin-teltow.de/event/erzaehlzeit-in-der-gottfried-benn-bibliothek/
LOCATION:Gottfried-Benn-Bibliothek\, Nentershäuser Platz 1\, Berlin\, 14163
CATEGORIES:Kinder
END:VEVENT
BEGIN:VEVENT
DTSTART;TZID=Europe/Berlin:20260204T153000
DTEND;TZID=Europe/Berlin:20260204T170000
DTSTAMP:20260421T230340
CREATED:20260102T115345Z
LAST-MODIFIED:20260102T115345Z
UID:18005-1770219000-1770224400@www.berlin-teltow.de
SUMMARY:Silent Book Club für Kids in der Gottfried-Benn-Bibliothek
DESCRIPTION:Empfohlen für Kinder ab 8 Jahren\nEintritt: frei\, mit Voranmeldung
URL:https://www.berlin-teltow.de/event/silent-book-club-fuer-kids-in-der-gottfried-benn-bibliothek/
LOCATION:Gottfried-Benn-Bibliothek\, Nentershäuser Platz 1\, Berlin\, 14163
CATEGORIES:Kinder
END:VEVENT
BEGIN:VEVENT
DTSTART;TZID=Europe/Berlin:20260205T171500
DTEND;TZID=Europe/Berlin:20260205T171500
DTSTAMP:20260421T230340
CREATED:20260102T113259Z
LAST-MODIFIED:20260102T113259Z
UID:17979-1770311700-1770311700@www.berlin-teltow.de
SUMMARY:Repair Café Teltow
DESCRIPTION:
URL:https://www.berlin-teltow.de/event/repair-cafe-teltow/
LOCATION:RepairCafé Teltow\, Ruhlsorfer Str.12\, Teltow\, 14513
CATEGORIES:Service
END:VEVENT
BEGIN:VEVENT
DTSTART;TZID=Europe/Berlin:20260206T140000
DTEND;TZID=Europe/Berlin:20260206T170000
DTSTAMP:20260421T230340
CREATED:20260102T115516Z
LAST-MODIFIED:20260102T115516Z
UID:18013-1770386400-1770397200@www.berlin-teltow.de
SUMMARY:Seniorenplausch
DESCRIPTION:
URL:https://www.berlin-teltow.de/event/seniorenplausch/
LOCATION:Freizeitstätte Süd\, Teltower Damm 226\, Berlin\, 14167
CATEGORIES:Senior*innen
END:VEVENT
BEGIN:VEVENT
DTSTART;TZID=Europe/Berlin:20260208T113000
DTEND;TZID=Europe/Berlin:20260208T170000
DTSTAMP:20260421T230340
CREATED:20260102T115614Z
LAST-MODIFIED:20260102T115614Z
UID:18016-1770550200-1770570000@www.berlin-teltow.de
SUMMARY:Kreatives Werken mit Alt-\, Rest- und Naturmaterialien
DESCRIPTION:
URL:https://www.berlin-teltow.de/event/kreatives-werken-mit-alt-rest-und-naturmaterialien/
LOCATION:Stadt.Teil.Räume/AWO\, Mörchinger Straße 116\, Berlin\, 14169
CATEGORIES:Kinder
END:VEVENT
BEGIN:VEVENT
DTSTART;TZID=Europe/Berlin:20260209T100000
DTEND;TZID=Europe/Berlin:20260209T100000
DTSTAMP:20260421T230340
CREATED:20260102T115659Z
LAST-MODIFIED:20260102T115659Z
UID:18015-1770631200-1770631200@www.berlin-teltow.de
SUMMARY:Digitale Fotos optimieren in der Ingeborg-Drewitz-Bibliothek
DESCRIPTION:Bitte bringen Sie einen Laptop oder Ihr Smartphone mit einem gelungenen Bild mit. \nEintritt: frei. Eine Anmeldung wird erbeten unter Tel.: (030) 90299 2410.
URL:https://www.berlin-teltow.de/event/digitale-fotos-optimieren-in-der-ingeborg-drewitz-bibliothek/
LOCATION:Stadtbibliothek Steglitz-Zehlendorf\, Grunewaldstr. 3\, Berlin\, 12165
CATEGORIES:Service
END:VEVENT
BEGIN:VEVENT
DTSTART;TZID=Europe/Berlin:20260210T150000
DTEND;TZID=Europe/Berlin:20260210T170000
DTSTAMP:20260421T230340
CREATED:20260102T115733Z
LAST-MODIFIED:20260102T115733Z
UID:18022-1770735600-1770742800@www.berlin-teltow.de
SUMMARY:Raum für Beteiligung
DESCRIPTION:
URL:https://www.berlin-teltow.de/event/raum-fuer-beteiligung/
LOCATION:Ingeborg-Drewitz-Bibliothek Zehlendorf\, Grunewaldstr. 3\, Berlin\, 12165
CATEGORIES:Service
END:VEVENT
BEGIN:VEVENT
DTSTART;TZID=Europe/Berlin:20260211T110000
DTEND;TZID=Europe/Berlin:20260211T110000
DTSTAMP:20260421T230340
CREATED:20260102T115803Z
LAST-MODIFIED:20260102T115803Z
UID:18020-1770807600-1770807600@www.berlin-teltow.de
SUMMARY:Kriminalprävention & Verkehrssicherheit mit der Polizei Berlin in der Ingeborg-Drewitz-Bibliothek
DESCRIPTION:
URL:https://www.berlin-teltow.de/event/kriminalpraevention-verkehrssicherheit-mit-der-polizei-berlin-in-der-ingeborg-drewitz-bibliothek/
LOCATION:Ingeborg-Drewitz-Bibliothek Zehlendorf\, Grunewaldstr. 3\, Berlin\, 12165
CATEGORIES:Service
END:VEVENT
BEGIN:VEVENT
DTSTART;TZID=Europe/Berlin:20260211T163000
DTEND;TZID=Europe/Berlin:20260211T163000
DTSTAMP:20260421T230340
CREATED:20260102T115834Z
LAST-MODIFIED:20260102T115840Z
UID:18024-1770827400-1770827400@www.berlin-teltow.de
SUMMARY:Schachtreff in der Gottfried-Benn-Bibliothek für Kinder - ein Angebot des Schachklubs Zehlendorfs e.V.
DESCRIPTION:
URL:https://www.berlin-teltow.de/event/schachtreff-in-der-gottfried-benn-bibliothek-fuer-kinder-ein-angebot-des-schachklubs-zehlendorfs-e-v/
LOCATION:Gottfried-Benn-Bibliothek\, Nentershäuser Platz 1\, Berlin\, 14163
CATEGORIES:Kinder,Service
END:VEVENT
BEGIN:VEVENT
DTSTART;TZID=Europe/Berlin:20260212T171500
DTEND;TZID=Europe/Berlin:20260212T171500
DTSTAMP:20260421T230340
CREATED:20260102T113418Z
LAST-MODIFIED:20260102T113418Z
UID:17983-1770916500-1770916500@www.berlin-teltow.de
SUMMARY:Repair Café Teltow
DESCRIPTION:Terminvereinbarung:\nlll Frau Paech\nTelefon +491636923496\nMail terminanfragen@repaircafeteltow.de \ni repaircafeteltow.de
URL:https://www.berlin-teltow.de/event/repair-cafe-teltow-15/
LOCATION:RepairCafé Teltow\, Ruhlsorfer Str.12\, Teltow\, 14513
CATEGORIES:Service
END:VEVENT
BEGIN:VEVENT
DTSTART;TZID=Europe/Berlin:20260217T160000
DTEND;TZID=Europe/Berlin:20260217T160000
DTSTAMP:20260421T230340
CREATED:20251121T111105Z
LAST-MODIFIED:20251121T111105Z
UID:17832-1771344000-1771344000@www.berlin-teltow.de
SUMMARY:Stand der Wärmeplanung für die   Kommunen Teltow\, Stahnsdorf und  Kleinmachnow
DESCRIPTION:
URL:https://www.berlin-teltow.de/event/stand-der-waermeplanung-fuer-die-kommunen-teltow-stahnsdorf-und-kleinmachnow/
LOCATION:Industriemuseum Region Teltow\, Oderstraße 23\, Teltow\, 14513
CATEGORIES:Service
END:VEVENT
BEGIN:VEVENT
DTSTART;TZID=Europe/Berlin:20260217T160000
DTEND;TZID=Europe/Berlin:20260217T160000
DTSTAMP:20260421T230340
CREATED:20260102T112108Z
LAST-MODIFIED:20260102T112108Z
UID:17956-1771344000-1771344000@www.berlin-teltow.de
SUMMARY:Stand der Wärmeplanung für die Kommunen TKS
DESCRIPTION:
URL:https://www.berlin-teltow.de/event/stand-der-waermeplanung-fuer-die-kommunen-tks/
LOCATION:Industriemuseum Region Teltow\, Oderstraße 23\, Teltow\, 14513
CATEGORIES:Führung,Service
END:VEVENT
BEGIN:VEVENT
DTSTART;TZID=Europe/Berlin:20260219T171500
DTEND;TZID=Europe/Berlin:20260219T171500
DTSTAMP:20260421T230340
CREATED:20260102T113521Z
LAST-MODIFIED:20260102T113521Z
UID:17987-1771521300-1771521300@www.berlin-teltow.de
SUMMARY:Repair Café Teltow
DESCRIPTION:Terminvereinbarung:\nlll Frau Paech\nTelefon +491636923496\nMail terminanfragen@repaircafeteltow.de \ni repaircafeteltow.de
URL:https://www.berlin-teltow.de/event/repair-cafe-teltow-16/
CATEGORIES:Service
END:VEVENT
BEGIN:VEVENT
DTSTART;TZID=Europe/Berlin:20260221T100000
DTEND;TZID=Europe/Berlin:20260221T100000
DTSTAMP:20260421T230340
CREATED:20260102T114311Z
LAST-MODIFIED:20260102T114311Z
UID:18003-1771668000-1771668000@www.berlin-teltow.de
SUMMARY:AZUBI-Tag / Tag der offenen Tür bei SPITZKE
DESCRIPTION:
URL:https://www.berlin-teltow.de/event/azubi-tag-tag-der-offenen-tuer-bei-spitzke/
LOCATION:SPITZKE SE\, Märkische Allee 39/41\, Großbeeren\, 14979
CATEGORIES:Service
END:VEVENT
BEGIN:VEVENT
DTSTART;TZID=Europe/Berlin:20260224T140000
DTEND;TZID=Europe/Berlin:20260224T140000
DTSTAMP:20260421T230340
CREATED:20260102T120128Z
LAST-MODIFIED:20260102T120128Z
UID:18034-1771941600-1771941600@www.berlin-teltow.de
SUMMARY:Button DIY Q*lub
DESCRIPTION:
URL:https://www.berlin-teltow.de/event/button-diy-qlub-2/
LOCATION:Ingeborg-Drewitz-Bibliothek Zehlendorf\, Grunewaldstr. 3\, Berlin\, 12165
CATEGORIES:Service
END:VEVENT
BEGIN:VEVENT
DTSTART;TZID=Europe/Berlin:20260226T171500
DTEND;TZID=Europe/Berlin:20260226T171500
DTSTAMP:20260421T230340
CREATED:20260102T113757Z
LAST-MODIFIED:20260102T114007Z
UID:17995-1772126100-1772126100@www.berlin-teltow.de
SUMMARY:Repair Café Teltow
DESCRIPTION:Terminvereinbarung:\nlll Frau Paech\nTelefon +491636923496\nMail terminanfragen@repaircafeteltow.de \ni repaircafeteltow.de
URL:https://www.berlin-teltow.de/event/repair-cafe-teltow-19/
LOCATION:RepairCafé Teltow\, Ruhlsorfer Str.12\, Teltow\, 14513
CATEGORIES:Service
END:VEVENT
BEGIN:VEVENT
DTSTART;TZID=Europe/Berlin:20260228T110000
DTEND;TZID=Europe/Berlin:20260228T130000
DTSTAMP:20260421T230340
CREATED:20260102T120223Z
LAST-MODIFIED:20260102T120223Z
UID:18037-1772276400-1772283600@www.berlin-teltow.de
SUMMARY:KulturLeben Berlin in der Ingeborg-Drewitz-Bibliothek
DESCRIPTION:
URL:https://www.berlin-teltow.de/event/kulturleben-berlin-in-der-ingeborg-drewitz-bibliothek/
LOCATION:Ingeborg-Drewitz-Bibliothek Zehlendorf\, Grunewaldstr. 3\, Berlin\, 12165
END:VEVENT
BEGIN:VEVENT
DTSTART;TZID=Europe/Berlin:20260228T160000
DTEND;TZID=Europe/Berlin:20260228T170000
DTSTAMP:20260421T230340
CREATED:20260102T112726Z
LAST-MODIFIED:20260102T112726Z
UID:17961-1772294400-1772298000@www.berlin-teltow.de
SUMMARY:Lino Frieses Circus Varieté
DESCRIPTION:
URL:https://www.berlin-teltow.de/event/lino-frieses-circus-variete/
LOCATION:Neue Kammerspiele\, Karl-Marx-Straße 18\, Kleinmachnow\, 14532
CATEGORIES:Bühne
END:VEVENT
END:VCALENDAR