BEGIN:VCALENDAR
VERSION:2.0
PRODID:-//Berlin &amp; Teltow - ECPv6.15.20//NONSGML v1.0//EN
CALSCALE:GREGORIAN
METHOD:PUBLISH
X-WR-CALNAME:Berlin &amp; Teltow
X-ORIGINAL-URL:https://www.berlin-teltow.de
X-WR-CALDESC:Veranstaltungen für Berlin &amp; Teltow
REFRESH-INTERVAL;VALUE=DURATION:PT1H
X-Robots-Tag:noindex
X-PUBLISHED-TTL:PT1H
BEGIN:VTIMEZONE
TZID:Europe/Berlin
BEGIN:DAYLIGHT
TZOFFSETFROM:+0100
TZOFFSETTO:+0200
TZNAME:CEST
DTSTART:20250330T010000
END:DAYLIGHT
BEGIN:STANDARD
TZOFFSETFROM:+0200
TZOFFSETTO:+0100
TZNAME:CET
DTSTART:20251026T010000
END:STANDARD
BEGIN:DAYLIGHT
TZOFFSETFROM:+0100
TZOFFSETTO:+0200
TZNAME:CEST
DTSTART:20260329T010000
END:DAYLIGHT
BEGIN:STANDARD
TZOFFSETFROM:+0200
TZOFFSETTO:+0100
TZNAME:CET
DTSTART:20261025T010000
END:STANDARD
BEGIN:DAYLIGHT
TZOFFSETFROM:+0100
TZOFFSETTO:+0200
TZNAME:CEST
DTSTART:20270328T010000
END:DAYLIGHT
BEGIN:STANDARD
TZOFFSETFROM:+0200
TZOFFSETTO:+0100
TZNAME:CET
DTSTART:20271031T010000
END:STANDARD
END:VTIMEZONE
BEGIN:VEVENT
DTSTART;TZID=Europe/Berlin:20260508T080000
DTEND;TZID=Europe/Berlin:20260509T170000
DTSTAMP:20260425T123609
CREATED:20260301T084359Z
LAST-MODIFIED:20260323T134149Z
UID:18139-1778227200-1778346000@www.berlin-teltow.de
SUMMARY:Scheunenrock Großbeeren
DESCRIPTION:
URL:https://www.berlin-teltow.de/event/scheunenrock-grossbeeren/
LOCATION:Pfarrscheune Großbeeren\, Ruhlsdorfer Str. 2\,\, Großbeeren\, 14979
CATEGORIES:Konzert
END:VEVENT
BEGIN:VEVENT
DTSTART;TZID=Europe/Berlin:20260509T110000
DTEND;TZID=Europe/Berlin:20260509T160000
DTSTAMP:20260425T123609
CREATED:20260402T075922Z
LAST-MODIFIED:20260402T075922Z
UID:18337-1778324400-1778342400@www.berlin-teltow.de
SUMMARY:Gratis Comic Tag
DESCRIPTION:
URL:https://www.berlin-teltow.de/event/gratis-comic-tag/
LOCATION:Ingeborg-Drewitz-Bibliothek Zehlendorf\, Grunewaldstr. 3\, Berlin\, 12165
CATEGORIES:Kinder
END:VEVENT
BEGIN:VEVENT
DTSTART;TZID=Europe/Berlin:20260512T160000
DTEND;TZID=Europe/Berlin:20260512T170000
DTSTAMP:20260425T123609
CREATED:20260402T073302Z
LAST-MODIFIED:20260402T073302Z
UID:18278-1778601600-1778605200@www.berlin-teltow.de
SUMMARY:Klimawissen und Klimapolitik
DESCRIPTION:Herr Prof. Dr. Hans von Storch\, Träger Bundesverdienstkreuz 1. Klasse
URL:https://www.berlin-teltow.de/event/klimawissen-und-klimapolitik/
LOCATION:Industriemuseum Region Teltow\, Oderstraße 23\, Teltow\, 14513
CATEGORIES:Service
END:VEVENT
BEGIN:VEVENT
DTSTART;TZID=Europe/Berlin:20260513T200000
DTEND;TZID=Europe/Berlin:20260513T200000
DTSTAMP:20260425T123609
CREATED:20260301T084018Z
LAST-MODIFIED:20260323T134147Z
UID:18133-1778702400-1778702400@www.berlin-teltow.de
SUMMARY:Teltow singt - Das Mitsingkonzert
DESCRIPTION:
URL:https://www.berlin-teltow.de/event/teltow-singt-das-mitsingkonzert-10/
LOCATION:Neues Rathaus Teltow\, Marktplatz 1-3\, 14513 Teltow\, 14513
CATEGORIES:Konzert
END:VEVENT
BEGIN:VEVENT
DTSTART;TZID=Europe/Berlin:20260514T150000
DTEND;TZID=Europe/Berlin:20260514T170000
DTSTAMP:20260425T123609
CREATED:20260402T074926Z
LAST-MODIFIED:20260402T074926Z
UID:18321-1778770800-1778778000@www.berlin-teltow.de
SUMMARY:Sommerfest der Jugendkunstschule mit Vernissage
DESCRIPTION:
URL:https://www.berlin-teltow.de/event/sommerfest-der-jugendkunstschule-mit-vernissage/
LOCATION:Bürgerhaus Teltow\, Ritterstraße 10\, Teltow\, 14513
CATEGORIES:Kinder,Kunst und Literatur
END:VEVENT
BEGIN:VEVENT
DTSTART;TZID=Europe/Berlin:20260514T170000
DTEND;TZID=Europe/Berlin:20260514T170000
DTSTAMP:20260425T123609
CREATED:20260301T084458Z
LAST-MODIFIED:20260301T084458Z
UID:18143-1778778000-1778778000@www.berlin-teltow.de
SUMMARY:Kleinbeerener Musiksommer: Coco Schumann Remembered - Swing Rmances
DESCRIPTION:
URL:https://www.berlin-teltow.de/event/kleinbeerener-musiksommer-coco-schumann-remembered-swing-rmances/
LOCATION:Schinkel-Kirche Großbeeren\, Berliner Str\, Großbeeren\, 14979
CATEGORIES:Konzert
END:VEVENT
BEGIN:VEVENT
DTSTART;VALUE=DATE:20260518
DTEND;VALUE=DATE:20260519
DTSTAMP:20260425T123609
CREATED:20260402T073337Z
LAST-MODIFIED:20260402T073337Z
UID:18282-1779062400-1779148799@www.berlin-teltow.de
SUMMARY:Internationaler Museumstag
DESCRIPTION:
URL:https://www.berlin-teltow.de/event/internationaler-museumstag/
CATEGORIES:Service
END:VEVENT
BEGIN:VEVENT
DTSTART;TZID=Europe/Berlin:20260518T163000
DTEND;TZID=Europe/Berlin:20260518T163000
DTSTAMP:20260425T123609
CREATED:20260402T080231Z
LAST-MODIFIED:20260402T080231Z
UID:18346-1779121800-1779121800@www.berlin-teltow.de
SUMMARY:Der Krimiclub der Gottfried-Benn-Bibliothek
DESCRIPTION:„Haus der Geister“ von F.Goldammer
URL:https://www.berlin-teltow.de/event/der-krimiclub-der-gottfried-benn-bibliothek/
LOCATION:Gottfried-Benn-Bibliothek\, Nentershäuser Platz 1\, Berlin\, 14163
CATEGORIES:Kunst und Literatur
END:VEVENT
BEGIN:VEVENT
DTSTART;TZID=Europe/Berlin:20260518T163000
DTEND;TZID=Europe/Berlin:20260518T170000
DTSTAMP:20260425T123609
CREATED:20260402T080138Z
LAST-MODIFIED:20260402T080138Z
UID:18344-1779121800-1779123600@www.berlin-teltow.de
SUMMARY:LEGO ® Build the Change - Wir bauen die Veränderung in der Ingeborg-Drewitz-Bibliothek
DESCRIPTION:
URL:https://www.berlin-teltow.de/event/lego-build-the-change-wir-bauen-die-veraenderung-in-der-ingeborg-drewitz-bibliothek/
LOCATION:Ingeborg-Drewitz-Bibliothek Zehlendorf\, Grunewaldstr. 3\, Berlin\, 12165
CATEGORIES:Kinder
END:VEVENT
BEGIN:VEVENT
DTSTART;TZID=Europe/Berlin:20260519T140000
DTEND;TZID=Europe/Berlin:20260519T140000
DTSTAMP:20260425T123609
CREATED:20260402T073416Z
LAST-MODIFIED:20260402T073416Z
UID:18283-1779199200-1779199200@www.berlin-teltow.de
SUMMARY:Netzwerktreffen "Pflege vor Ort"
DESCRIPTION:
URL:https://www.berlin-teltow.de/event/netzwerktreffen-pflege-vor-ort/
LOCATION:Neues Rathaus Teltow\, Marktplatz 1-3\, 14513 Teltow\, 14513
CATEGORIES:Senior*innen
END:VEVENT
BEGIN:VEVENT
DTSTART;TZID=Europe/Berlin:20260520T140000
DTEND;TZID=Europe/Berlin:20260520T140000
DTSTAMP:20260425T123609
CREATED:20260402T073542Z
LAST-MODIFIED:20260402T073542Z
UID:18285-1779285600-1779285600@www.berlin-teltow.de
SUMMARY:Stahnsdorfer Gartenfestival: Offener Kinder-\, Wildbienen- und Zeidlergarten
DESCRIPTION:
URL:https://www.berlin-teltow.de/event/stahnsdorfer-gartenfestival-offener-kinder-wildbienen-und-zeidlergarten/
LOCATION:goll/kunkel\, Wannseestr. 25\, Stahnsdorf\, 14532
CATEGORIES:Garten
END:VEVENT
BEGIN:VEVENT
DTSTART;TZID=Europe/Berlin:20260521T163000
DTEND;TZID=Europe/Berlin:20260521T170000
DTSTAMP:20260425T123609
CREATED:20260402T074546Z
LAST-MODIFIED:20260402T074546Z
UID:18309-1779381000-1779382800@www.berlin-teltow.de
SUMMARY:Das Berliner Puppentheater spielt Petronella Apfelmus
DESCRIPTION:
URL:https://www.berlin-teltow.de/event/das-berliner-puppentheater-spielt-petronella-apfelmus/
LOCATION:Neues Rathaus Teltow\, Marktplatz 1-3\, 14513 Teltow\, 14513
CATEGORIES:Kinder
END:VEVENT
BEGIN:VEVENT
DTSTART;TZID=Europe/Berlin:20260523T100000
DTEND;TZID=Europe/Berlin:20260523T100000
DTSTAMP:20260425T123609
CREATED:20260402T073629Z
LAST-MODIFIED:20260402T073629Z
UID:18287-1779530400-1779530400@www.berlin-teltow.de
SUMMARY:Stahnsdorfer Gartenfestival: Stauden-Workshop
DESCRIPTION:
URL:https://www.berlin-teltow.de/event/stahnsdorfer-gartenfestival-stauden-workshop/
LOCATION:Garten der Familie Kessel\, Schulzenstr. 5\, Stahnsdorf\, 14532
CATEGORIES:Garten
END:VEVENT
BEGIN:VEVENT
DTSTART;TZID=Europe/Berlin:20260529T190000
DTEND;TZID=Europe/Berlin:20260529T190000
DTSTAMP:20260425T123609
CREATED:20260402T073834Z
LAST-MODIFIED:20260402T073834Z
UID:18290-1780081200-1780081200@www.berlin-teltow.de
SUMMARY:Lesung mit Musik - "Kein Kind von hier"
DESCRIPTION:Autorin Ann Rose liest aus „Kein Kind von hier“\,
URL:https://www.berlin-teltow.de/event/lesung-mit-musik-kein-kind-von-hier/
LOCATION:Rathaus Kleinmachnow\, Adolf-Grimme-Ring 10\, Kleinmachnow\, 14532
CATEGORIES:Kunst und Literatur
END:VEVENT
BEGIN:VEVENT
DTSTART;TZID=Europe/Berlin:20260530T160000
DTEND;TZID=Europe/Berlin:20260530T160000
DTSTAMP:20260425T123609
CREATED:20260402T074816Z
LAST-MODIFIED:20260402T074816Z
UID:18316-1780156800-1780156800@www.berlin-teltow.de
SUMMARY:Artenvielfalt in den Buschwiesen entdecken
DESCRIPTION:
URL:https://www.berlin-teltow.de/event/artenvielfalt-in-den-buschwiesen-entdecken/
LOCATION:Ruhlsdorfer Straße\, Ruhlsdorfer Straße Ecke Buschweg\, Teltow
CATEGORIES:Führung
END:VEVENT
BEGIN:VEVENT
DTSTART;TZID=Europe/Berlin:20260531T150000
DTEND;TZID=Europe/Berlin:20260531T150000
DTSTAMP:20260425T123609
CREATED:20260402T080256Z
LAST-MODIFIED:20260402T080256Z
UID:18348-1780239600-1780239600@www.berlin-teltow.de
SUMMARY:Sommerkonzerte im Stadtpark Steglitz: Kinder-Rockband The Twiggs & Blitzblech
DESCRIPTION:
URL:https://www.berlin-teltow.de/event/sommerkonzerte-im-stadtpark-steglitz-kinder-rockband-the-twiggs-blitzblech/
LOCATION:Musikpavillon im Stadtpark Steglitz\, Albrechtstraße\, Berlin\, 12167
CATEGORIES:Konzert
END:VEVENT
BEGIN:VEVENT
DTSTART;TZID=Europe/Berlin:20260602T160000
DTEND;TZID=Europe/Berlin:20260602T170000
DTSTAMP:20260425T123609
CREATED:20260402T074851Z
LAST-MODIFIED:20260402T074851Z
UID:18318-1780416000-1780419600@www.berlin-teltow.de
SUMMARY:"Trudi traut sich"
DESCRIPTION:Altersempfehlung: ab 2 J.
URL:https://www.berlin-teltow.de/event/trudi-traut-sich/
LOCATION:Stadtbibliothek Teltow\, Jahnstraße 2a\, Teltow\, 14513
CATEGORIES:Kinder
END:VEVENT
BEGIN:VEVENT
DTSTART;TZID=Europe/Berlin:20260614T160000
DTEND;TZID=Europe/Berlin:20260614T170000
DTSTAMP:20260425T123609
CREATED:20260402T074045Z
LAST-MODIFIED:20260402T074045Z
UID:18297-1781452800-1781456400@www.berlin-teltow.de
SUMMARY:1. Sommerkonzert 2026 | Duo Oxymoron & Tom Pielucha (Harfe\, Akkordeon & Trompete)
DESCRIPTION:
URL:https://www.berlin-teltow.de/event/1-sommerkonzert-2026-duo-oxymoron-tom-pielucha-harfe-akkordeon-trompete/
LOCATION:Rathaus Kleinmachnow\, Adolf-Grimme-Ring 10\, Kleinmachnow\, 14532
CATEGORIES:Konzert
END:VEVENT
BEGIN:VEVENT
DTSTART;TZID=Europe/Berlin:20260614T170000
DTEND;TZID=Europe/Berlin:20260614T170000
DTSTAMP:20260425T123609
CREATED:20260402T075144Z
LAST-MODIFIED:20260402T075144Z
UID:18328-1781456400-1781456400@www.berlin-teltow.de
SUMMARY:Kleinbeerener Musiksommer: Coco Schumann Remembered - Swing Rmances
DESCRIPTION:
URL:https://www.berlin-teltow.de/event/kleinbeerener-musiksommer-coco-schumann-remembered-swing-rmances-2/
LOCATION:Dorfkirche Kleinbeeren\, Berliner Str.\, Großbeeren\, 14979
CATEGORIES:Konzert
END:VEVENT
BEGIN:VEVENT
DTSTART;TZID=Europe/Berlin:20260617T150000
DTEND;TZID=Europe/Berlin:20260617T190000
DTSTAMP:20260425T123609
CREATED:20260402T074126Z
LAST-MODIFIED:20260402T074126Z
UID:18299-1781708400-1781722800@www.berlin-teltow.de
SUMMARY:Tanz im Juni
DESCRIPTION:
URL:https://www.berlin-teltow.de/event/tanz-im-juni/
LOCATION:Rathaus Kleinmachnow\, Adolf-Grimme-Ring 10\, Kleinmachnow\, 14532
CATEGORIES:Fest,Senior*innen
END:VEVENT
BEGIN:VEVENT
DTSTART;TZID=Europe/Berlin:20260619T163000
DTEND;TZID=Europe/Berlin:20260619T170000
DTSTAMP:20260425T123609
CREATED:20260402T074159Z
LAST-MODIFIED:20260402T074159Z
UID:18301-1781886600-1781888400@www.berlin-teltow.de
SUMMARY:Figuren-Theater: Petronella Apfelmus
DESCRIPTION:
URL:https://www.berlin-teltow.de/event/figuren-theater-petronella-apfelmus/
LOCATION:Rathaus Kleinmachnow\, Adolf-Grimme-Ring 10\, Kleinmachnow\, 14532
CATEGORIES:Bühne
END:VEVENT
BEGIN:VEVENT
DTSTART;TZID=Europe/Berlin:20260624T100000
DTEND;TZID=Europe/Berlin:20260624T100000
DTSTAMP:20260425T123609
CREATED:20260402T075041Z
LAST-MODIFIED:20260402T075041Z
UID:18325-1782295200-1782295200@www.berlin-teltow.de
SUMMARY:Ü60-Frühstück mit "Pflege vor Ort“
DESCRIPTION:
URL:https://www.berlin-teltow.de/event/ue60-fruehstueck-mit-pflege-vor-ort-2/
LOCATION:AWO Teltow\, Potsdamer Str. 62\, Teltow\, 14513
CATEGORIES:Senior*innen
END:VEVENT
END:VCALENDAR