BEGIN:VCALENDAR
VERSION:2.0
PRODID:-//Berlin &amp; Teltow - ECPv6.15.20//NONSGML v1.0//EN
CALSCALE:GREGORIAN
METHOD:PUBLISH
X-WR-CALNAME:Berlin &amp; Teltow
X-ORIGINAL-URL:https://www.berlin-teltow.de
X-WR-CALDESC:Veranstaltungen für Berlin &amp; Teltow
REFRESH-INTERVAL;VALUE=DURATION:PT1H
X-Robots-Tag:noindex
X-PUBLISHED-TTL:PT1H
BEGIN:VTIMEZONE
TZID:Europe/Berlin
BEGIN:DAYLIGHT
TZOFFSETFROM:+0100
TZOFFSETTO:+0200
TZNAME:CEST
DTSTART:20250330T010000
END:DAYLIGHT
BEGIN:STANDARD
TZOFFSETFROM:+0200
TZOFFSETTO:+0100
TZNAME:CET
DTSTART:20251026T010000
END:STANDARD
BEGIN:DAYLIGHT
TZOFFSETFROM:+0100
TZOFFSETTO:+0200
TZNAME:CEST
DTSTART:20260329T010000
END:DAYLIGHT
BEGIN:STANDARD
TZOFFSETFROM:+0200
TZOFFSETTO:+0100
TZNAME:CET
DTSTART:20261025T010000
END:STANDARD
BEGIN:DAYLIGHT
TZOFFSETFROM:+0100
TZOFFSETTO:+0200
TZNAME:CEST
DTSTART:20270328T010000
END:DAYLIGHT
BEGIN:STANDARD
TZOFFSETFROM:+0200
TZOFFSETTO:+0100
TZNAME:CET
DTSTART:20271031T010000
END:STANDARD
END:VTIMEZONE
BEGIN:VEVENT
DTSTART;TZID=Europe/Berlin:20260424T200000
DTEND;TZID=Europe/Berlin:20260424T200000
DTSTAMP:20260425T124326
CREATED:20260301T082811Z
LAST-MODIFIED:20260323T134207Z
UID:18112-1777060800-1777060800@www.berlin-teltow.de
SUMMARY:Philipp Scharrenberg - Verwirren ist menschlich
DESCRIPTION:Preis:\n\n20\,00 €\n18 Euro im Vorverkauf bei natura am Rathausmarkt.
URL:https://www.berlin-teltow.de/event/philipp-scharrenberg-verwirren-ist-menschlich/
LOCATION:KultRaum Kleinmachnow e.V.\, Zehlendorfer Damm 200\, Kleinmachnow\, 14532
CATEGORIES:Bühne
END:VEVENT
BEGIN:VEVENT
DTSTART;TZID=Europe/Berlin:20260423T160000
DTEND;TZID=Europe/Berlin:20260423T180000
DTSTAMP:20260425T124326
CREATED:20260301T085115Z
LAST-MODIFIED:20260323T134210Z
UID:18152-1776960000-1776967200@www.berlin-teltow.de
SUMMARY:Book Bedazzle
DESCRIPTION:
URL:https://www.berlin-teltow.de/event/book-bedazzle/
LOCATION:Ingeborg-Drewitz-Bibliothek Zehlendorf\, Grunewaldstr. 3\, Berlin\, 12165
CATEGORIES:Kinder
END:VEVENT
BEGIN:VEVENT
DTSTART;TZID=Europe/Berlin:20260422T190000
DTEND;TZID=Europe/Berlin:20260422T190000
DTSTAMP:20260425T124326
CREATED:20260301T082702Z
LAST-MODIFIED:20260323T134213Z
UID:18110-1776884400-1776884400@www.berlin-teltow.de
SUMMARY:Autorenlesung | "Aufgeräumt wird später" - Manfred Suttinger erzählt über Ordnung und Chaos
DESCRIPTION:
URL:https://www.berlin-teltow.de/event/autorenlesung-aufgeraeumt-wird-spaeter-manfred-suttinger-erzaehlt-ueber-ordnung-und-chaos/
LOCATION:Rathaus Kleinmachnow\, Adolf-Grimme-Ring 10\, Kleinmachnow\, 14532
CATEGORIES:Kunst und Literatur
END:VEVENT
BEGIN:VEVENT
DTSTART;TZID=Europe/Berlin:20260421T190000
DTEND;TZID=Europe/Berlin:20260421T190000
DTSTAMP:20260425T124326
CREATED:20260323T133854Z
LAST-MODIFIED:20260323T134216Z
UID:18207-1776798000-1776798000@www.berlin-teltow.de
SUMMARY:🎼Erzählungen aus aller Welt mit Geige begleitet 🎻
DESCRIPTION:Zum Staunen & Geniessen – Musik und wundersame Erzählungen aus aller Welt“ mit Séraphin (Yutah Lorenz\, Schauspiel) & Silva (Silva von Bülow\, Geige) \nEintritt frei\, Spende erfreut 🎩 \nAnmeldung erwünscht
URL:https://www.berlin-teltow.de/event/%f0%9f%8e%bcerzaehlungen-aus-aller-welt-mit-geige-begleitet-%f0%9f%8e%bb/
LOCATION:Nachbarschaftshaus Wannseebahn e.V\, Mörchinger Str. 49\,\, Berlin\, 14169
CATEGORIES:Konzert
END:VEVENT
BEGIN:VEVENT
DTSTART;TZID=Europe/Berlin:20260420T200000
DTEND;TZID=Europe/Berlin:20260420T200000
DTSTAMP:20260425T124326
CREATED:20260301T083410Z
LAST-MODIFIED:20260323T134219Z
UID:18120-1776715200-1776715200@www.berlin-teltow.de
SUMMARY:Teltow singt - Das Mitsingkonzert
DESCRIPTION:
URL:https://www.berlin-teltow.de/event/teltow-singt-das-mitsingkonzert-9/
LOCATION:Neues Rathaus Teltow\, Marktplatz 1-3\, 14513 Teltow\, 14513
CATEGORIES:Konzert
END:VEVENT
BEGIN:VEVENT
DTSTART;TZID=Europe/Berlin:20260419T160000
DTEND;TZID=Europe/Berlin:20260419T160000
DTSTAMP:20260425T124326
CREATED:20260301T082622Z
LAST-MODIFIED:20260323T134221Z
UID:18108-1776614400-1776614400@www.berlin-teltow.de
SUMMARY:Träume der Romantik | Lieder von Richard Wagner\, Franz Schubert und Carl Loewe | Felix Bruder (Gesang) & Go Uezono (Piano)
DESCRIPTION:
URL:https://www.berlin-teltow.de/event/traeume-der-romantik-lieder-von-richard-wagner-franz-schubert-und-carl-loewe-felix-bruder-gesang-go-uezono-piano/
LOCATION:Rathaus Kleinmachnow\, Adolf-Grimme-Ring 10\, Kleinmachnow\, 14532
CATEGORIES:Konzert
END:VEVENT
BEGIN:VEVENT
DTSTART;TZID=Europe/Berlin:20260418T080000
DTEND;TZID=Europe/Berlin:20260418T170000
DTSTAMP:20260425T124326
CREATED:20260301T084217Z
LAST-MODIFIED:20260323T134223Z
UID:18137-1776499200-1776531600@www.berlin-teltow.de
SUMMARY:Frühjahrsputz in Großbeeren und in den Ortsteilen
DESCRIPTION:
URL:https://www.berlin-teltow.de/event/fruehjahrsputz-in-grossbeeren-und-in-den-ortsteilen/
CATEGORIES:Service
END:VEVENT
BEGIN:VEVENT
DTSTART;TZID=Europe/Berlin:20260417T193000
DTEND;TZID=Europe/Berlin:20260417T193000
DTSTAMP:20260425T124326
CREATED:20260301T083333Z
LAST-MODIFIED:20260323T134225Z
UID:18118-1776454200-1776454200@www.berlin-teltow.de
SUMMARY:Wortgefunkel Gedichtband
DESCRIPTION:
URL:https://www.berlin-teltow.de/event/wortgefunkel-gedichtband/
LOCATION:Bürgerhaus Teltow\, Ritterstraße 10\, Teltow\, 14513
CATEGORIES:Kunst und Literatur
END:VEVENT
BEGIN:VEVENT
DTSTART;TZID=Europe/Berlin:20260415T163000
DTEND;TZID=Europe/Berlin:20260415T163000
DTSTAMP:20260425T124326
CREATED:20260301T083239Z
LAST-MODIFIED:20260323T134228Z
UID:18116-1776270600-1776270600@www.berlin-teltow.de
SUMMARY:Wissenswertes über Demenzerkrankungen
DESCRIPTION:
URL:https://www.berlin-teltow.de/event/wissenswertes-ueber-demenzerkrankungen/
LOCATION:Förderverein Akademie 2. Lebenshälfte im Land Brandenburg e.V.\, Rheinstr. 17b\, Teltow\, 14513
CATEGORIES:Service
END:VEVENT
BEGIN:VEVENT
DTSTART;TZID=Europe/Berlin:20260414T160000
DTEND;TZID=Europe/Berlin:20260414T160000
DTSTAMP:20260425T124326
CREATED:20260301T082525Z
LAST-MODIFIED:20260323T134308Z
UID:18104-1776182400-1776182400@www.berlin-teltow.de
SUMMARY:Bilderbuchkino im April
DESCRIPTION:»Lieselotte im Regen« von Alexander Steffensmeier aus dem Fischer Sauerländer Verlag.
URL:https://www.berlin-teltow.de/event/bilderbuchkino-im-april/
LOCATION:Rathaus Kleinmachnow\, Adolf-Grimme-Ring 10\, Kleinmachnow\, 14532
CATEGORIES:Kinder
END:VEVENT
BEGIN:VEVENT
DTSTART;TZID=Europe/Berlin:20260414T150000
DTEND;TZID=Europe/Berlin:20260414T150000
DTSTAMP:20260425T124326
CREATED:20260301T085025Z
LAST-MODIFIED:20260301T085025Z
UID:18150-1776178800-1776178800@www.berlin-teltow.de
SUMMARY:Trio SonMex – Karibische Musik
DESCRIPTION:
URL:https://www.berlin-teltow.de/event/trio-sonmex-karibische-musik/
LOCATION:Maria-Rimkus-Haus Berlin\, Gallwitzallee 53\, Berlin\, 12249
CATEGORIES:Senior*innen
END:VEVENT
BEGIN:VEVENT
DTSTART;TZID=Europe/Berlin:20260414T140000
DTEND;TZID=Europe/Berlin:20260414T140000
DTSTAMP:20260425T124326
CREATED:20260301T083141Z
LAST-MODIFIED:20260323T134313Z
UID:18114-1776175200-1776175200@www.berlin-teltow.de
SUMMARY:Pflege- und Hilfsmittelmesse
DESCRIPTION:
URL:https://www.berlin-teltow.de/event/pflege-und-hilfsmittelmesse/
LOCATION:Neues Rathaus Teltow\, Marktplatz 1-3\, 14513 Teltow\, 14513
CATEGORIES:Markt
END:VEVENT
BEGIN:VEVENT
DTSTART;TZID=Europe/Berlin:20260410T160000
DTEND;TZID=Europe/Berlin:20260410T160000
DTSTAMP:20260425T124326
CREATED:20260301T084950Z
LAST-MODIFIED:20260323T134316Z
UID:18148-1775836800-1775836800@www.berlin-teltow.de
SUMMARY:TCG-Event
DESCRIPTION:Trading Card Game\,
URL:https://www.berlin-teltow.de/event/tcg-event/
LOCATION:Ingeborg-Drewitz-Bibliothek Zehlendorf\, Grunewaldstr. 3\, Berlin\, 12165
CATEGORIES:Kinder
END:VEVENT
BEGIN:VEVENT
DTSTART;TZID=Europe/Berlin:20260410T140000
DTEND;TZID=Europe/Berlin:20260410T140000
DTSTAMP:20260425T124326
CREATED:20260301T084919Z
LAST-MODIFIED:20260323T134317Z
UID:18146-1775829600-1775829600@www.berlin-teltow.de
SUMMARY:Seniorenplausch
DESCRIPTION:
URL:https://www.berlin-teltow.de/event/seniorenplausch-2/
LOCATION:Freizeitstätte Süd\, Teltower Damm 226\, Berlin\, 14167
CATEGORIES:Senior*innen
END:VEVENT
BEGIN:VEVENT
DTSTART;TZID=Europe/Berlin:20260329T150000
DTEND;TZID=Europe/Berlin:20260329T150000
DTSTAMP:20260425T124326
CREATED:20260102T114134Z
LAST-MODIFIED:20260323T134319Z
UID:18001-1774796400-1774796400@www.berlin-teltow.de
SUMMARY:Alte Hakeburg MUSEUMs-März 2026 – im März geht‘s ins Museum!
DESCRIPTION:Eine vorherige Anmeldung ist erforderlich über die \nTourist Information der Stadt Teltow \n1 +49 3328 4781-293 \n1 tourist-info@teltow.de \nGruppe 1: Alte Hakeburg\, Zehlendorfer Damm 215\, Kleinmachnow \nGruppe 2: Straßenbahnwagen 3587\, Stahnsdorfer Damm 19\, Kleinmachnow
URL:https://www.berlin-teltow.de/event/alte-hakeburg-museums-maerz-2026-im-maerz-gehts-ins-museum/
CATEGORIES:Führung
END:VEVENT
BEGIN:VEVENT
DTSTART;TZID=Europe/Berlin:20260326T180000
DTEND;TZID=Europe/Berlin:20260326T180000
DTSTAMP:20260425T124326
CREATED:20260102T120346Z
LAST-MODIFIED:20260323T134322Z
UID:18046-1774548000-1774548000@www.berlin-teltow.de
SUMMARY:Lesung mit Sara Reichelt: „Klaviatur der Möglichkeiten“
DESCRIPTION:
URL:https://www.berlin-teltow.de/event/lesung-mit-sara-reichelt-klaviatur-der-moeglichkeiten/
LOCATION:Gottfried-Benn-Bibliothek\, Nentershäuser Platz 1\, Berlin\, 14163
CATEGORIES:Kunst und Literatur
END:VEVENT
BEGIN:VEVENT
DTSTART;TZID=Europe/Berlin:20260326T171500
DTEND;TZID=Europe/Berlin:20260326T171500
DTSTAMP:20260425T124326
CREATED:20260102T113849Z
LAST-MODIFIED:20260323T134323Z
UID:17999-1774545300-1774545300@www.berlin-teltow.de
SUMMARY:Repair Café Teltow
DESCRIPTION:
URL:https://www.berlin-teltow.de/event/repair-cafe-teltow-21/
LOCATION:RepairCafé Teltow\, Ruhlsorfer Str.12\, Teltow\, 14513
CATEGORIES:Service
END:VEVENT
BEGIN:VEVENT
DTSTART;TZID=Europe/Berlin:20260321T163000
DTEND;TZID=Europe/Berlin:20260321T170000
DTSTAMP:20260425T124326
CREATED:20260317T161412Z
LAST-MODIFIED:20260323T134325Z
UID:18202-1774110600-1774112400@www.berlin-teltow.de
SUMMARY:Poetischer Folk  mit Melanie "Seigone"
DESCRIPTION:Poetischer Folk\n\nmit Melanie „Seigone“\n\nGesang & Gitarre\n\nSie singt in verschiedenen Sprachen \, französisch\, englisch\, deutsch\n\nDie Lyrik und Melodien sind insperiert von Wanderungen und Reisen.\n\nhttps://seigone.bandcamp.com/
URL:https://www.berlin-teltow.de/event/poetischer-folk-mit-melanie-seigone/
LOCATION:Bistro Aux Delices Normands\, Ihnestraße 29\,\, Berlin\, 14195
CATEGORIES:Konzert
END:VEVENT
BEGIN:VEVENT
DTSTART;TZID=Europe/Berlin:20260321T100000
DTEND;TZID=Europe/Berlin:20260321T170000
DTSTAMP:20260425T124326
CREATED:20260102T113825Z
LAST-MODIFIED:20260323T134326Z
UID:17997-1774087200-1774112400@www.berlin-teltow.de
SUMMARY:Erlebnistag - Lernen durch selber machen
DESCRIPTION:
URL:https://www.berlin-teltow.de/event/erlebnistag-lernen-durch-selber-machen-2/
LOCATION:Industriemuseum Region Teltow\, Oderstraße 23\, Teltow\, 14513
CATEGORIES:Führung
END:VEVENT
BEGIN:VEVENT
DTSTART;TZID=Europe/Berlin:20260321T100000
DTEND;TZID=Europe/Berlin:20260321T100000
DTSTAMP:20260425T124326
CREATED:20251121T111223Z
LAST-MODIFIED:20260323T134329Z
UID:17835-1774087200-1774087200@www.berlin-teltow.de
SUMMARY:Erlebnistag - Lernen durch selber machen
DESCRIPTION:
URL:https://www.berlin-teltow.de/event/erlebnistag-lernen-durch-selber-machen/
LOCATION:Industriemuseum Region Teltow\, Oderstraße 23\, Teltow\, 14513
CATEGORIES:Service
END:VEVENT
BEGIN:VEVENT
DTSTART;TZID=Europe/Berlin:20260320T200000
DTEND;TZID=Europe/Berlin:20260320T200000
DTSTAMP:20260425T124326
CREATED:20260102T112944Z
LAST-MODIFIED:20260323T134330Z
UID:17971-1774036800-1774036800@www.berlin-teltow.de
SUMMARY:Savoy Satellites spielen Duke Ellington featuring Mette Hansen
DESCRIPTION:
URL:https://www.berlin-teltow.de/event/savoy-satellites-spielen-duke-ellington-featuring-mette-hansen/
LOCATION:Rathaus Kleinmachnow\, Adolf-Grimme-Ring 10\, Kleinmachnow\, 14532
CATEGORIES:Konzert
END:VEVENT
BEGIN:VEVENT
DTSTART;TZID=Europe/Berlin:20260318T170000
DTEND;TZID=Europe/Berlin:20260318T190000
DTSTAMP:20260425T124326
CREATED:20260102T115912Z
LAST-MODIFIED:20260102T115912Z
UID:18026-1773853200-1773860400@www.berlin-teltow.de
SUMMARY:Sing mit Roland! - in der Ingeborg-Drewitz-Bibliothek
DESCRIPTION:
URL:https://www.berlin-teltow.de/event/sing-mit-roland-in-der-ingeborg-drewitz-bibliothek/
LOCATION:Ingeborg-Drewitz-Bibliothek Zehlendorf\, Grunewaldstr. 3\, Berlin\, 12165
CATEGORIES:Service
END:VEVENT
BEGIN:VEVENT
DTSTART;TZID=Europe/Berlin:20260315T150000
DTEND;TZID=Europe/Berlin:20260315T170000
DTSTAMP:20260425T124326
CREATED:20260102T113718Z
LAST-MODIFIED:20260102T114023Z
UID:17993-1773586800-1773594000@www.berlin-teltow.de
SUMMARY:MUSEUMs-März 2026 Industriemuseum
DESCRIPTION:
URL:https://www.berlin-teltow.de/event/museums-maerz-2026/
LOCATION:Industriemuseum Region Teltow\, Oderstraße 23\, Teltow\, 14513
CATEGORIES:Service
END:VEVENT
BEGIN:VEVENT
DTSTART;TZID=Europe/Berlin:20260315T150000
DTEND;TZID=Europe/Berlin:20260315T150000
DTSTAMP:20260425T124326
CREATED:20251121T111143Z
LAST-MODIFIED:20251121T111143Z
UID:17831-1773586800-1773586800@www.berlin-teltow.de
SUMMARY:Teltower MuSeumsmärz
DESCRIPTION:
URL:https://www.berlin-teltow.de/event/teltower-museumsmaerz/
LOCATION:Industriemuseum Region Teltow\, Oderstraße 23\, Teltow\, 14513
CATEGORIES:Führung
END:VEVENT
BEGIN:VEVENT
DTSTART;TZID=Europe/Berlin:20260310T170000
DTEND;TZID=Europe/Berlin:20260310T170000
DTSTAMP:20260425T124326
CREATED:20260102T120255Z
LAST-MODIFIED:20260102T120255Z
UID:18041-1773162000-1773162000@www.berlin-teltow.de
SUMMARY:HAPPY STRUMMING: Ukulele-Spielkreis
DESCRIPTION:
URL:https://www.berlin-teltow.de/event/happy-strumming-ukulele-spielkreis/
LOCATION:Ingeborg-Drewitz-Bibliothek Zehlendorf\, Grunewaldstr. 3\, Berlin\, 12165
CATEGORIES:Kinder,Service
END:VEVENT
BEGIN:VEVENT
DTSTART;TZID=Europe/Berlin:20260306T180000
DTEND;TZID=Europe/Berlin:20260306T180000
DTSTAMP:20260425T124326
CREATED:20260102T112907Z
LAST-MODIFIED:20260102T112919Z
UID:17969-1772820000-1772820000@www.berlin-teltow.de
SUMMARY:Disko Plus - Kleinmachnows erste Inklusionsdisko
DESCRIPTION:
URL:https://www.berlin-teltow.de/event/disko-plus-kleinmachnows-erste-inklusionsdisko-6/
LOCATION:Neue Kammerspiele\, Karl-Marx-Straße 18\, Kleinmachnow\, 14532
CATEGORIES:Fest
END:VEVENT
BEGIN:VEVENT
DTSTART;TZID=Europe/Berlin:20260305T171500
DTEND;TZID=Europe/Berlin:20260305T171500
DTSTAMP:20260425T124326
CREATED:20260102T113628Z
LAST-MODIFIED:20260102T113628Z
UID:17991-1772730900-1772730900@www.berlin-teltow.de
SUMMARY:Repair Café Teltow
DESCRIPTION:lll Frau Paech\nTelefon +491636923496\nMail terminanfragen@repaircafeteltow.de \ni repaircafeteltow.de
URL:https://www.berlin-teltow.de/event/repair-cafe-teltow-17/
LOCATION:RepairCafé Teltow\, Ruhlsorfer Str.12\, Teltow\, 14513
CATEGORIES:Service
END:VEVENT
BEGIN:VEVENT
DTSTART;TZID=Europe/Berlin:20260301T150000
DTEND;TZID=Europe/Berlin:20260301T150000
DTSTAMP:20260425T124326
CREATED:20260102T112843Z
LAST-MODIFIED:20260102T112843Z
UID:17967-1772377200-1772377200@www.berlin-teltow.de
SUMMARY:Lino Frieses Circus Varieté
DESCRIPTION:
URL:https://www.berlin-teltow.de/event/lino-frieses-circus-variete-4/
LOCATION:Neue Kammerspiele\, Karl-Marx-Straße 18\, Kleinmachnow\, 14532
CATEGORIES:Bühne
END:VEVENT
BEGIN:VEVENT
DTSTART;TZID=Europe/Berlin:20260301T110000
DTEND;TZID=Europe/Berlin:20260301T110000
DTSTAMP:20260425T124326
CREATED:20260102T112812Z
LAST-MODIFIED:20260102T112812Z
UID:17965-1772362800-1772362800@www.berlin-teltow.de
SUMMARY:Lino Frieses Circus Varieté
DESCRIPTION:
URL:https://www.berlin-teltow.de/event/lino-frieses-circus-variete-3/
LOCATION:Neue Kammerspiele\, Karl-Marx-Straße 18\, Kleinmachnow\, 14532
CATEGORIES:Bühne
END:VEVENT
BEGIN:VEVENT
DTSTART;TZID=Europe/Berlin:20260228T160000
DTEND;TZID=Europe/Berlin:20260228T170000
DTSTAMP:20260425T124326
CREATED:20260102T112726Z
LAST-MODIFIED:20260102T112726Z
UID:17961-1772294400-1772298000@www.berlin-teltow.de
SUMMARY:Lino Frieses Circus Varieté
DESCRIPTION:
URL:https://www.berlin-teltow.de/event/lino-frieses-circus-variete/
LOCATION:Neue Kammerspiele\, Karl-Marx-Straße 18\, Kleinmachnow\, 14532
CATEGORIES:Bühne
END:VEVENT
END:VCALENDAR