BEGIN:VCALENDAR
VERSION:2.0
PRODID:-//Berlin &amp; Teltow - ECPv6.15.20//NONSGML v1.0//EN
CALSCALE:GREGORIAN
METHOD:PUBLISH
X-WR-CALNAME:Berlin &amp; Teltow
X-ORIGINAL-URL:https://www.berlin-teltow.de
X-WR-CALDESC:Veranstaltungen für Berlin &amp; Teltow
REFRESH-INTERVAL;VALUE=DURATION:PT1H
X-Robots-Tag:noindex
X-PUBLISHED-TTL:PT1H
BEGIN:VTIMEZONE
TZID:Europe/Berlin
BEGIN:DAYLIGHT
TZOFFSETFROM:+0100
TZOFFSETTO:+0200
TZNAME:CEST
DTSTART:20250330T010000
END:DAYLIGHT
BEGIN:STANDARD
TZOFFSETFROM:+0200
TZOFFSETTO:+0100
TZNAME:CET
DTSTART:20251026T010000
END:STANDARD
BEGIN:DAYLIGHT
TZOFFSETFROM:+0100
TZOFFSETTO:+0200
TZNAME:CEST
DTSTART:20260329T010000
END:DAYLIGHT
BEGIN:STANDARD
TZOFFSETFROM:+0200
TZOFFSETTO:+0100
TZNAME:CET
DTSTART:20261025T010000
END:STANDARD
BEGIN:DAYLIGHT
TZOFFSETFROM:+0100
TZOFFSETTO:+0200
TZNAME:CEST
DTSTART:20270328T010000
END:DAYLIGHT
BEGIN:STANDARD
TZOFFSETFROM:+0200
TZOFFSETTO:+0100
TZNAME:CET
DTSTART:20271031T010000
END:STANDARD
END:VTIMEZONE
BEGIN:VEVENT
DTSTART;TZID=Europe/Berlin:20260326T171500
DTEND;TZID=Europe/Berlin:20260326T171500
DTSTAMP:20260421T213905
CREATED:20260102T113849Z
LAST-MODIFIED:20260323T134323Z
UID:17999-1774545300-1774545300@www.berlin-teltow.de
SUMMARY:Repair Café Teltow
DESCRIPTION:
URL:https://www.berlin-teltow.de/event/repair-cafe-teltow-21/
LOCATION:RepairCafé Teltow\, Ruhlsorfer Str.12\, Teltow\, 14513
CATEGORIES:Service
END:VEVENT
BEGIN:VEVENT
DTSTART;TZID=Europe/Berlin:20260326T180000
DTEND;TZID=Europe/Berlin:20260326T180000
DTSTAMP:20260421T213905
CREATED:20260102T120346Z
LAST-MODIFIED:20260323T134322Z
UID:18046-1774548000-1774548000@www.berlin-teltow.de
SUMMARY:Lesung mit Sara Reichelt: „Klaviatur der Möglichkeiten“
DESCRIPTION:
URL:https://www.berlin-teltow.de/event/lesung-mit-sara-reichelt-klaviatur-der-moeglichkeiten/
LOCATION:Gottfried-Benn-Bibliothek\, Nentershäuser Platz 1\, Berlin\, 14163
CATEGORIES:Kunst und Literatur
END:VEVENT
END:VCALENDAR