BEGIN:VCALENDAR
VERSION:2.0
PRODID:-//Berlin &amp; Teltow - ECPv6.15.20//NONSGML v1.0//EN
CALSCALE:GREGORIAN
METHOD:PUBLISH
X-WR-CALNAME:Berlin &amp; Teltow
X-ORIGINAL-URL:https://www.berlin-teltow.de
X-WR-CALDESC:Veranstaltungen für Berlin &amp; Teltow
REFRESH-INTERVAL;VALUE=DURATION:PT1H
X-Robots-Tag:noindex
X-PUBLISHED-TTL:PT1H
BEGIN:VTIMEZONE
TZID:Europe/Berlin
BEGIN:DAYLIGHT
TZOFFSETFROM:+0100
TZOFFSETTO:+0200
TZNAME:CEST
DTSTART:20250330T010000
END:DAYLIGHT
BEGIN:STANDARD
TZOFFSETFROM:+0200
TZOFFSETTO:+0100
TZNAME:CET
DTSTART:20251026T010000
END:STANDARD
BEGIN:DAYLIGHT
TZOFFSETFROM:+0100
TZOFFSETTO:+0200
TZNAME:CEST
DTSTART:20260329T010000
END:DAYLIGHT
BEGIN:STANDARD
TZOFFSETFROM:+0200
TZOFFSETTO:+0100
TZNAME:CET
DTSTART:20261025T010000
END:STANDARD
BEGIN:DAYLIGHT
TZOFFSETFROM:+0100
TZOFFSETTO:+0200
TZNAME:CEST
DTSTART:20270328T010000
END:DAYLIGHT
BEGIN:STANDARD
TZOFFSETFROM:+0200
TZOFFSETTO:+0100
TZNAME:CET
DTSTART:20271031T010000
END:STANDARD
END:VTIMEZONE
BEGIN:VEVENT
DTSTART;TZID=Europe/Berlin:20260301T110000
DTEND;TZID=Europe/Berlin:20260301T110000
DTSTAMP:20260421T211941
CREATED:20260102T112812Z
LAST-MODIFIED:20260102T112812Z
UID:17965-1772362800-1772362800@www.berlin-teltow.de
SUMMARY:Lino Frieses Circus Varieté
DESCRIPTION:
URL:https://www.berlin-teltow.de/event/lino-frieses-circus-variete-3/
LOCATION:Neue Kammerspiele\, Karl-Marx-Straße 18\, Kleinmachnow\, 14532
CATEGORIES:Bühne
END:VEVENT
BEGIN:VEVENT
DTSTART;TZID=Europe/Berlin:20260301T150000
DTEND;TZID=Europe/Berlin:20260301T150000
DTSTAMP:20260421T211941
CREATED:20260102T112843Z
LAST-MODIFIED:20260102T112843Z
UID:17967-1772377200-1772377200@www.berlin-teltow.de
SUMMARY:Lino Frieses Circus Varieté
DESCRIPTION:
URL:https://www.berlin-teltow.de/event/lino-frieses-circus-variete-4/
LOCATION:Neue Kammerspiele\, Karl-Marx-Straße 18\, Kleinmachnow\, 14532
CATEGORIES:Bühne
END:VEVENT
END:VCALENDAR