BEGIN:VCALENDAR
VERSION:2.0
PRODID:-//Berlin &amp; Teltow - ECPv6.15.20//NONSGML v1.0//EN
CALSCALE:GREGORIAN
METHOD:PUBLISH
X-WR-CALNAME:Berlin &amp; Teltow
X-ORIGINAL-URL:https://www.berlin-teltow.de
X-WR-CALDESC:Veranstaltungen für Berlin &amp; Teltow
REFRESH-INTERVAL;VALUE=DURATION:PT1H
X-Robots-Tag:noindex
X-PUBLISHED-TTL:PT1H
BEGIN:VTIMEZONE
TZID:Europe/Berlin
BEGIN:DAYLIGHT
TZOFFSETFROM:+0100
TZOFFSETTO:+0200
TZNAME:CEST
DTSTART:20250330T010000
END:DAYLIGHT
BEGIN:STANDARD
TZOFFSETFROM:+0200
TZOFFSETTO:+0100
TZNAME:CET
DTSTART:20251026T010000
END:STANDARD
BEGIN:DAYLIGHT
TZOFFSETFROM:+0100
TZOFFSETTO:+0200
TZNAME:CEST
DTSTART:20260329T010000
END:DAYLIGHT
BEGIN:STANDARD
TZOFFSETFROM:+0200
TZOFFSETTO:+0100
TZNAME:CET
DTSTART:20261025T010000
END:STANDARD
BEGIN:DAYLIGHT
TZOFFSETFROM:+0100
TZOFFSETTO:+0200
TZNAME:CEST
DTSTART:20270328T010000
END:DAYLIGHT
BEGIN:STANDARD
TZOFFSETFROM:+0200
TZOFFSETTO:+0100
TZNAME:CET
DTSTART:20271031T010000
END:STANDARD
END:VTIMEZONE
BEGIN:VEVENT
DTSTART;TZID=Europe/Berlin:20260228T110000
DTEND;TZID=Europe/Berlin:20260228T130000
DTSTAMP:20260421T212626
CREATED:20260102T120223Z
LAST-MODIFIED:20260102T120223Z
UID:18037-1772276400-1772283600@www.berlin-teltow.de
SUMMARY:KulturLeben Berlin in der Ingeborg-Drewitz-Bibliothek
DESCRIPTION:
URL:https://www.berlin-teltow.de/event/kulturleben-berlin-in-der-ingeborg-drewitz-bibliothek/
LOCATION:Ingeborg-Drewitz-Bibliothek Zehlendorf\, Grunewaldstr. 3\, Berlin\, 12165
END:VEVENT
BEGIN:VEVENT
DTSTART;TZID=Europe/Berlin:20260228T160000
DTEND;TZID=Europe/Berlin:20260228T170000
DTSTAMP:20260421T212626
CREATED:20260102T112726Z
LAST-MODIFIED:20260102T112726Z
UID:17961-1772294400-1772298000@www.berlin-teltow.de
SUMMARY:Lino Frieses Circus Varieté
DESCRIPTION:
URL:https://www.berlin-teltow.de/event/lino-frieses-circus-variete/
LOCATION:Neue Kammerspiele\, Karl-Marx-Straße 18\, Kleinmachnow\, 14532
CATEGORIES:Bühne
END:VEVENT
END:VCALENDAR