BEGIN:VCALENDAR
VERSION:2.0
PRODID:-//Berlin &amp; Teltow - ECPv6.15.20//NONSGML v1.0//EN
CALSCALE:GREGORIAN
METHOD:PUBLISH
X-ORIGINAL-URL:https://www.berlin-teltow.de
X-WR-CALDESC:Veranstaltungen für Berlin &amp; Teltow
REFRESH-INTERVAL;VALUE=DURATION:PT1H
X-Robots-Tag:noindex
X-PUBLISHED-TTL:PT1H
BEGIN:VTIMEZONE
TZID:Europe/Berlin
BEGIN:DAYLIGHT
TZOFFSETFROM:+0100
TZOFFSETTO:+0200
TZNAME:CEST
DTSTART:20250330T010000
END:DAYLIGHT
BEGIN:STANDARD
TZOFFSETFROM:+0200
TZOFFSETTO:+0100
TZNAME:CET
DTSTART:20251026T010000
END:STANDARD
BEGIN:DAYLIGHT
TZOFFSETFROM:+0100
TZOFFSETTO:+0200
TZNAME:CEST
DTSTART:20260329T010000
END:DAYLIGHT
BEGIN:STANDARD
TZOFFSETFROM:+0200
TZOFFSETTO:+0100
TZNAME:CET
DTSTART:20261025T010000
END:STANDARD
BEGIN:DAYLIGHT
TZOFFSETFROM:+0100
TZOFFSETTO:+0200
TZNAME:CEST
DTSTART:20270328T010000
END:DAYLIGHT
BEGIN:STANDARD
TZOFFSETFROM:+0200
TZOFFSETTO:+0100
TZNAME:CET
DTSTART:20271031T010000
END:STANDARD
END:VTIMEZONE
BEGIN:VEVENT
DTSTART;TZID=Europe/Berlin:20260123T143000
DTEND;TZID=Europe/Berlin:20260123T170000
DTSTAMP:20260422T020118
CREATED:20251201T094844Z
LAST-MODIFIED:20251201T094844Z
UID:17854-1769178600-1769187600@www.berlin-teltow.de
SUMMARY:Seniorenplausch mit Kaffee & Keksen in der Ingeborg-Drewitz-Bibliothek
DESCRIPTION:
URL:https://www.berlin-teltow.de/event/seniorenplausch-mit-kaffee-keksen-in-der-ingeborg-drewitz-bibliothek/
CATEGORIES:Senior*innen
END:VEVENT
BEGIN:VEVENT
DTSTART;TZID=Europe/Berlin:20260123T200000
DTEND;TZID=Europe/Berlin:20260123T200000
DTSTAMP:20260422T020118
CREATED:20251107T071821Z
LAST-MODIFIED:20251107T071832Z
UID:17692-1769198400-1769198400@www.berlin-teltow.de
SUMMARY:Plückhahn & Vogel Grob verfeinert
DESCRIPTION:20\,00 €\n18 Euro im Vorverkauf bei natura am Rathausmarkt
URL:https://www.berlin-teltow.de/event/plueckhahn-vogel-grob-verfeinert/
LOCATION:KultRaum Kleinmachnow e.V.\, Zehlendorfer Damm 200\, Kleinmachnow\, 14532
CATEGORIES:Bühne
END:VEVENT
END:VCALENDAR